BEGIN:VCALENDAR
VERSION:2.0
PRODID:spatie/icalendar-generator
DESCRIPTION:Veranstaltungen von Musikverein Runkel e.V.
X-WR-CALDESC:Veranstaltungen von Musikverein Runkel e.V.
REFRESH-INTERVAL;VALUE=DURATION:PT1440M
X-PUBLISHED-TTL:PT1440M
BEGIN:VTIMEZONE
TZID:Europe/Berlin
BEGIN:DAYLIGHT
DTSTART:20190331T020000Z
TZOFFSETFROM:+0100
TZOFFSETTO:+0200
END:DAYLIGHT
BEGIN:STANDARD
DTSTART:20191027T030000Z
TZOFFSETFROM:+0200
TZOFFSETTO:+0100
END:STANDARD
BEGIN:DAYLIGHT
DTSTART:20200329T020000Z
TZOFFSETFROM:+0100
TZOFFSETTO:+0200
END:DAYLIGHT
END:VTIMEZONE
BEGIN:VTIMEZONE
TZID:UTC
BEGIN:STANDARD
DTSTART:20250729T195942Z
TZOFFSETFROM:+0000
TZOFFSETTO:+0000
END:STANDARD
END:VTIMEZONE
BEGIN:VEVENT
UID:188-169
DTSTAMP:20260425T195942Z
SUMMARY:Probewochenende
LOCATION:
ORGANIZER;CN=Marvin Jung:MAILTO:marvin.jung61@googlemail.com
DTSTART;TZID=Europe/Berlin;VALUE=DATE:20191012
DTEND;TZID=Europe/Berlin;VALUE=DATE:20191014
X-ALT-DESC;FMTTYPE=TEXT/HTML:
CATEGORIES:Freizeit / Ausflüge
URL;VALUE=URI:http://www.mvrunkel.de/wordpress/mc-events/probewochenende/
METHOD:PUBLISH
END:VEVENT
END:VCALENDAR