BEGIN:VCALENDAR
VERSION:2.0
PRODID:spatie/icalendar-generator
DESCRIPTION:Veranstaltungen von Musikverein Runkel e.V.
X-WR-CALDESC:Veranstaltungen von Musikverein Runkel e.V.
REFRESH-INTERVAL;VALUE=DURATION:PT1440M
X-PUBLISHED-TTL:PT1440M
BEGIN:VTIMEZONE
TZID:Europe/Berlin
BEGIN:STANDARD
DTSTART:20241027T030000Z
TZOFFSETFROM:+0200
TZOFFSETTO:+0100
END:STANDARD
BEGIN:DAYLIGHT
DTSTART:20250330T020000Z
TZOFFSETFROM:+0100
TZOFFSETTO:+0200
END:DAYLIGHT
BEGIN:STANDARD
DTSTART:20251026T030000Z
TZOFFSETFROM:+0200
TZOFFSETTO:+0100
END:STANDARD
END:VTIMEZONE
BEGIN:VTIMEZONE
TZID:UTC
BEGIN:STANDARD
DTSTART:20250727T194259Z
TZOFFSETFROM:+0000
TZOFFSETTO:+0000
END:STANDARD
END:VTIMEZONE
BEGIN:VEVENT
UID:227-208
DTSTAMP:20260423T194259Z
SUMMARY:Vereinsausflug nach Châtillon St. Jean - Frankreich
LOCATION:
ORGANIZER;CN=Ricarda Tobisch:MAILTO:ric.tobisch@gmail.com
DTSTART;TZID=Europe/Berlin;VALUE=DATE:20250606
DTEND;TZID=Europe/Berlin;VALUE=DATE:20250610
X-ALT-DESC;FMTTYPE=TEXT/HTML:
CATEGORIES:Freizeit / Ausflüge,  Konzert
URL;VALUE=URI:http://www.mvrunkel.de/wordpress/mc-events/vereinsausflug-nac
 h-chatillon-st-jean-frankreich/
METHOD:PUBLISH
END:VEVENT
END:VCALENDAR