BEGIN:VCALENDAR
VERSION:2.0
PRODID:spatie/icalendar-generator
DESCRIPTION:Veranstaltungen von Musikverein Runkel e.V.
X-WR-CALDESC:Veranstaltungen von Musikverein Runkel e.V.
REFRESH-INTERVAL;VALUE=DURATION:PT1440M
X-PUBLISHED-TTL:PT1440M
BEGIN:VTIMEZONE
TZID:Europe/Berlin
BEGIN:DAYLIGHT
DTSTART:20190331T020000Z
TZOFFSETFROM:+0100
TZOFFSETTO:+0200
END:DAYLIGHT
BEGIN:STANDARD
DTSTART:20191027T030000Z
TZOFFSETFROM:+0200
TZOFFSETTO:+0100
END:STANDARD
END:VTIMEZONE
BEGIN:VTIMEZONE
TZID:UTC
BEGIN:STANDARD
DTSTART:20250729T104838Z
TZOFFSETFROM:+0000
TZOFFSETTO:+0000
END:STANDARD
END:VTIMEZONE
BEGIN:VEVENT
UID:182-163
DTSTAMP:20260425T104838Z
SUMMARY:Zeltlager MVR-Jugend
LOCATION:
ORGANIZER;CN=Marvin Jung:MAILTO:marvin.jung61@googlemail.com
DTSTART;TZID=Europe/Berlin;VALUE=DATE:20190816
DTEND;TZID=Europe/Berlin;VALUE=DATE:20190819
X-ALT-DESC;FMTTYPE=TEXT/HTML:
CATEGORIES:Jugendteam
URL;VALUE=URI:http://www.mvrunkel.de/wordpress/mc-events/zeltlager-mvr-juge
 nd/
METHOD:PUBLISH
END:VEVENT
END:VCALENDAR